BEGIN:VCALENDAR
VERSION:2.0
PRODID:-//Ways to Walk - ECPv6.15.17.1//NONSGML v1.0//EN
CALSCALE:GREGORIAN
METHOD:PUBLISH
X-ORIGINAL-URL:https://waystowalk.org
X-WR-CALDESC:Events for Ways to Walk
REFRESH-INTERVAL;VALUE=DURATION:PT1H
X-Robots-Tag:noindex
X-PUBLISHED-TTL:PT1H
BEGIN:VTIMEZONE
TZID:Europe/Vienna
BEGIN:DAYLIGHT
TZOFFSETFROM:+0100
TZOFFSETTO:+0200
TZNAME:CEST
DTSTART:20250330T010000
END:DAYLIGHT
BEGIN:STANDARD
TZOFFSETFROM:+0200
TZOFFSETTO:+0100
TZNAME:CET
DTSTART:20251026T010000
END:STANDARD
BEGIN:DAYLIGHT
TZOFFSETFROM:+0100
TZOFFSETTO:+0200
TZNAME:CEST
DTSTART:20260329T010000
END:DAYLIGHT
BEGIN:STANDARD
TZOFFSETFROM:+0200
TZOFFSETTO:+0100
TZNAME:CET
DTSTART:20261025T010000
END:STANDARD
BEGIN:DAYLIGHT
TZOFFSETFROM:+0100
TZOFFSETTO:+0200
TZNAME:CEST
DTSTART:20270328T010000
END:DAYLIGHT
BEGIN:STANDARD
TZOFFSETFROM:+0200
TZOFFSETTO:+0100
TZNAME:CET
DTSTART:20271031T010000
END:STANDARD
END:VTIMEZONE
BEGIN:VEVENT
DTSTART;TZID=Europe/Vienna:20260411T083000
DTEND;TZID=Europe/Vienna:20260411T110000
DTSTAMP:20260421T101322
CREATED:20251011T075011Z
LAST-MODIFIED:20251011T075015Z
UID:772-1775896200-1775905200@waystowalk.org
SUMMARY:Climate Walk: Conversations for Change: Innsbruck (Pilot\, Deutsch)
DESCRIPTION:Join the waitlist \n			\n				\n				\n				\n				\n				Right here in Innsbruck\, researchers are working on the same questions: how our climate is changing\, what it means for our region\, and how we can adapt and act. \nThis walk isn’t about persuading you that climate change is real (the science already does that.) It’s about making the science visible: seeing its causes and solutions right here\, in the streets\, buildings\, and systems of our city. It’s also an invitation to think critically about your role in this shared world and to reflect on what collective change might look like. \nWe begin with a short grounding and introduction\, then visit four stations that each reveal a part of the city’s climate story: \n\n\nFood and agriculture – what we eat\, where it grows\, and how it travels. \n\n\nBuildings and energy – how we shelter and power our lives. \n\n\nMobility and movement – the ways we navigate our world. \n\n\nIndustry and production – how things are made\, used\, and renewed. \n\n\nAt each stop\, you’ll hear a short story or insight\, notice what’s around you\, and share reflections in pairs or small groups. Between stations\, we’ll walk and talk\, connecting what we’ve seen to our own choices and communities. \nWe close by widening the lens: shifting from individual actions toward collective and civic possibilities. Together\, we’ll explore how communities can spark change and how we can all move from awareness to meaningful action. \nAfter the walk\, you’ll receive a short list of trusted resources if you’d like to dive deeper into the science and local initiatives. \nThis is not a lecture or a tour\, but a shared conversation in motion\, part reflection\, part discovery\, part invitation to act. \n			\n			\n				\n				\n				\n				\n				\n				\n				\n				\n				\n				Duration: About 2–2.5 hours \nFee: Free (Registration required) \nWhat to bring: Comfortable shoes\, curiosity\, and something for notes or sketches if you wish \n			\n				\n				\n				\n				\n				This walk is designed and led by Suzanne Whitby\, founder of Ways to Walk. Suzanne is a foresight practitioner\, facilitator\, and a science & climate communicator who works with tools such as Climate Fresk\, the MIT En-ROADS Climate Simulator\, and the Deep Time Walk. \n			\n			\n				\n				\n				\n				\n			\n				\n				\n			\n				\n				\n				\n				\n				\n				\n				\n				\n				\n				\n				\n				\n				\n				\n				\n				\n				\n				Waitlist\nRegistration for this event is not yet open. If you’d like to be notified when registration opens\, please add your name to the wait list below. \n			\n				\n				\n				\n				\n				Waitlist\nThis event is full. Join the wait list and we’ll let you know if a place becomes available. \n			\n			\n				\n				\n				\n				\n				\n				\n				\n				\n					\n						\n				\n				\n				\n				\n				Name\n				\n			 \n				\n				\n				\n				\n				Email Address\n				\n			 \n				\n				\n				\n				\n				Page Name\n				\n			 \n				\n				\n				\n				\n				Page URL\n				\n			 \n				\n				\n				\n				\n				I confirm that I wish to be added to the waitlist & to be contacted about this event.\n				\n						I confirm that I wish to be added to the waitlist & to be contacted about this event.\n						\n								\n								Yes\, please contact me about this event.\n							\n					\n			 \n				\n				\n				\n				\n				Would you like us to send you updates about new events/walks? If so\, we'll add you to our mailing list (short\, occasional updates.)\n				\n						Would you like us to send you updates about new events/walks? If so\, we'll add you to our mailing list (short\, occasional updates.)\n						\n								\n								Yes\, please.\n							\n								\n								No\, thanks.\n							\n					\n			 \n						\n						\n							\n			\n				\n					5 + 11 = \n				 \n			\n							Submit
URL:https://waystowalk.org/event/climate-walk-conversations-for-change-innsbruck-pilot-deutsch/
LOCATION:To be confirmed.\, Innsbruck\, Tirol\, 6020\, Austria
CATEGORIES:Climate,Innsbruck,Public walks
ATTACH;FMTTYPE=image/jpeg:https://waystowalk.org/wp-content/uploads/waystowalk-climate-conversations1.jpg
ORGANIZER;CN="Ways to Walk":MAILTO:hi@waystowalk.org
END:VEVENT
END:VCALENDAR