BEGIN:VCALENDAR
VERSION:2.0
PRODID:-//Ways to Walk - ECPv6.15.17.1//NONSGML v1.0//EN
CALSCALE:GREGORIAN
METHOD:PUBLISH
X-WR-CALNAME:Ways to Walk
X-ORIGINAL-URL:https://waystowalk.org
X-WR-CALDESC:Events for Ways to Walk
REFRESH-INTERVAL;VALUE=DURATION:PT1H
X-Robots-Tag:noindex
X-PUBLISHED-TTL:PT1H
BEGIN:VTIMEZONE
TZID:Europe/Vienna
BEGIN:DAYLIGHT
TZOFFSETFROM:+0100
TZOFFSETTO:+0200
TZNAME:CEST
DTSTART:20240331T010000
END:DAYLIGHT
BEGIN:STANDARD
TZOFFSETFROM:+0200
TZOFFSETTO:+0100
TZNAME:CET
DTSTART:20241027T010000
END:STANDARD
BEGIN:DAYLIGHT
TZOFFSETFROM:+0100
TZOFFSETTO:+0200
TZNAME:CEST
DTSTART:20250330T010000
END:DAYLIGHT
BEGIN:STANDARD
TZOFFSETFROM:+0200
TZOFFSETTO:+0100
TZNAME:CET
DTSTART:20251026T010000
END:STANDARD
BEGIN:DAYLIGHT
TZOFFSETFROM:+0100
TZOFFSETTO:+0200
TZNAME:CEST
DTSTART:20260329T010000
END:DAYLIGHT
BEGIN:STANDARD
TZOFFSETFROM:+0200
TZOFFSETTO:+0100
TZNAME:CET
DTSTART:20261025T010000
END:STANDARD
END:VTIMEZONE
BEGIN:VEVENT
DTSTART;TZID=Europe/Vienna:20251107T083000
DTEND;TZID=Europe/Vienna:20251107T113000
DTSTAMP:20260423T103042
CREATED:20251011T124338Z
LAST-MODIFIED:20251011T124343Z
UID:806-1762504200-1762515000@waystowalk.org
SUMMARY:Earthed Art Walkshop\, Innsbruck (Waitlist available)
DESCRIPTION:Join the waitlist \n			\n				\n				\n				\n				\n				This Earthed Art Walk combines walking\, noticing\, and making. We begin with a short grounding and introduction\, then walk together through urban and natural spaces\, gathering found materials\, leaves\, pebbles\, twigs\, textures\, or fragments of the built environment. \nOnce we’ve collected what the place offers\, we’ll pause to create\, individually or collaboratively\, small\, temporary artworks that express something of the moment and the landscape around us. \nWe’ll close by sharing what we’ve made\, reflecting on process and impermanence\, and leaving our creations where they belong: part of the place\, part of the story. \nNo artistic skill is needed\, just curiosity\, attention\, and care for the world underfoot. \n			\n			\n				\n				\n				\n				\n				\n				\n				\n				\n				\n				Duration:About 2.5-3 hours \nFee: EUR 65  \nWhat to bring:Comfortable shoes\, suitable clothes\, curiosity\, and something for notes if you wish \n			\n				\n				\n				\n				\n				This walk is designed and led by Suzanne Whitby\, founder of Ways to Walk. Suzanne is a foresight practitioner\, facilitator\, and a science & climate communicator who works with tools such as Climate Fresk\, the MIT En-ROADS Climate Simulator\, and the Deep Time Walk. \n			\n			\n				\n				\n				\n				\n			\n				\n				\n			\n				\n				\n				\n				\n				\n				\n				\n				\n				\n				\n				\n				\n				\n				\n				\n				\n				\n				Waitlist\nThis event is full. Join the wait list and we’ll let you know if a place becomes available. \n			\n			\n				\n				\n				\n				\n				\n				\n				\n				\n					\n						\n				\n				\n				\n				\n				Name\n				\n			 \n				\n				\n				\n				\n				Email Address\n				\n			 \n				\n				\n				\n				\n				Page Name\n				\n			 \n				\n				\n				\n				\n				Page URL\n				\n			 \n				\n				\n				\n				\n				I confirm that I wish to be added to the waitlist & to be contacted about this event.\n				\n						I confirm that I wish to be added to the waitlist & to be contacted about this event.\n						\n								\n								Yes\, please contact me about this event.\n							\n					\n			 \n				\n				\n				\n				\n				Would you like us to send you updates about new events/walks? If so\, we'll add you to our mailing list (short\, occasional updates.)\n				\n						Would you like us to send you updates about new events/walks? If so\, we'll add you to our mailing list (short\, occasional updates.)\n						\n								\n								Yes\, please.\n							\n								\n								No\, thanks.\n							\n					\n			 \n						\n						\n							\n			\n				\n					9 + 11 = \n				 \n			\n							Submit
URL:https://waystowalk.org/event/earthed-art-walkshop-innsbruck-202511/
LOCATION:Entrance to Waltherpark\, Innsbruck
CATEGORIES:Earthed Art,Innsbruck,Public walks,Walkshop
ATTACH;FMTTYPE=image/jpeg:https://waystowalk.org/wp-content/uploads/earthed-art.jpg
ORGANIZER;CN="Ways to Walk":MAILTO:hi@waystowalk.org
END:VEVENT
BEGIN:VEVENT
DTSTART;TZID=Europe/Vienna:20251115T083000
DTEND;TZID=Europe/Vienna:20251115T143000
DTSTAMP:20260423T103043
CREATED:20251010T134456Z
LAST-MODIFIED:20251011T064054Z
UID:722-1763195400-1763217000@waystowalk.org
SUMMARY:Walk the Futures: Innsbruck Edition (Deutsch)
DESCRIPTION:Dieser Walkshop ist Teil eines Forschungsprojekts\, das erforscht\, wie wir uns die Zukunft durch Orte\, Geschichten und sinnliche Erfahrungen vorstellen. Jede Gruppe ist klein (6-12 Personen) und soll reflektierend\, persönlich und partizipativ sein. \nUm die Gruppengröße klein und aussagekräftig zu halten\, handelt es sich hier um eine Bewerbung und nicht um eine Anmeldung. Sobald du das Formular abgeschickt hast\, prüfen wir deine Angaben und melden uns bald\, um deinen Platz zu bestätigen. \n			\n			\n				\n				\n				\n				\n				\n				\n				\n				\n				\n				Startpunkt:\nInnsbruck\, Rennweg (in der Nähe des Hofgartens) \nStartzeit:\n08h00 (endet ~14h00) \nDauer:\n~5\,5-6 Stunden\, einschließlich Wanderung und Indoor-Workshop \nInklusive:\nHeiße Getränke bei der Ankunft; ein pflanzlicher Snack am Vormittag \nKosten:\nDie Teilnahme ist kostenlos. Du wirst gebeten\, im Rahmen einer Forschungsstudie deine informierte Zustimmung zu geben. \n			\n				\n				\n				\n				\n				This walk is designed and led by Suzanne Whitby\, founder of Ways to Walk. Suzanne is a foresight practitioner\, facilitator\, and a climate communicator who works with tools such as Climate Fresk\, the MIT En-ROADS Climate Simulator\, and the Deep Time Walk.
URL:https://walkthefutures.org/de/innsbruck-edition/walk-the-futures-innsbruck-15-november-2025/#new_tab
LOCATION:Rennweg\, Innsbruck\, Rennweg\, Innsbruck\, Tirol\, 6020\, Austria
CATEGORIES:Climate,Innsbruck,Public walks
ATTACH;FMTTYPE=image/jpeg:https://waystowalk.org/wp-content/uploads/waystowalk-walk-the-futures.jpg
ORGANIZER;CN="Ways to Walk":MAILTO:hi@waystowalk.org
END:VEVENT
END:VCALENDAR